BEGIN:VCALENDAR
VERSION:2.0
PRODID:-//eventon.com NONSGML v1.0//EN
CALSCALE:GREGORIAN
METHOD:PUBLISH
BEGIN:VEVENT
UID:69eb86b33d0cf
DTSTAMP:20260424T150523Z
DTSTART:20220507T160000Z
DTEND:20220507T215000Z
LOCATION:
SUMMARY:20 Ã¥r med Elvis
DESCRIPTION:Uppsalas stÃ¶rsta och vÃ¤lkÃ¤nda Elvisfantast firar 20 Ã¥r med 
 Elvis Kent Wennman har breddat vÃ¥ra kunskaper om Elvis genom konserter\,  
 fÃ¶relÃ¤sningar\,  tidningsartiklar och radioprogram. I Ã¥r firar Kent 20 Ã
 ¥r med Elvis och vi har nÃ¶jet att presentera en med kÃ¤rlek avskalad fÃ¶re
 stÃ¤llning med endast piano och sÃ¥ng dÃ¤r Kent[..]\nhttps://astraken.se/ev
 ents/20-ar-med-elvis-2/
URL:https://astraken.se/events/20-ar-med-elvis-2/
END:VEVENT
END:VCALENDAR