BEGIN:VCALENDAR
VERSION:2.0
PRODID:-//eventon.com NONSGML v1.0//EN
CALSCALE:GREGORIAN
METHOD:PUBLISH
BEGIN:VEVENT
UID:69eb83940cf60
DTSTAMP:20260424T145204Z
DTSTART:20220402T070000Z
DTEND:20220402T130000Z
LOCATION:
SUMMARY:Vårcaféet öppnar!
DESCRIPTION:Vårcaféet öppnar! Servering ute och inne. Öppet: Lördag 2 
 april 9 &#8211; 15 Söndag 3 april 11 &#8211; 16\nhttps://astraken.se/event
 s/varcafeet-oppnar/
URL:https://astraken.se/events/varcafeet-oppnar/
END:VEVENT
END:VCALENDAR