BEGIN:VCALENDAR
VERSION:2.0
PRODID:-//eventon.com NONSGML v1.0//EN
CALSCALE:GREGORIAN
METHOD:PUBLISH
BEGIN:VEVENT
UID:69eb83e1ab5bb
DTSTAMP:20260424T145321Z
DTSTART:20220306T110000Z
DTEND:20220306T150000Z
LOCATION:
SUMMARY:SemmelcafÃ©
DESCRIPTION:PÃ¥ tisdag Ã¤r det semmeldagen! Vi firar detta med att ha Ã¶ppe
 t nu pÃ¥ sÃ¶ndag 6mars. Cafe med varm choklad\,  soppa\,  surdegsbrÃ¶d och 
 sÃ¥ fÃ¶rstÃ¥s vÃ¥ra egna SEMLOR pÃ¥ hemgjord mandelmassa med rostade mandla
 r. Bullarna gÃ¶r vi fÃ¶rstÃ¥s pÃ¥ kulturspannmÃ¥l &#8211; denna gÃ¥ng med Ã
 –landsvete och grovkrossad kardemumma! Vi har[..]\nhttps://astraken.se/even
 ts/semmelcafe/
URL:https://astraken.se/events/semmelcafe/
END:VEVENT
END:VCALENDAR