BEGIN:VCALENDAR
VERSION:2.0
PRODID:-//eventon.com NONSGML v1.0//EN
CALSCALE:GREGORIAN
METHOD:PUBLISH
BEGIN:VEVENT
UID:69eb83e3a8a76
DTSTAMP:20260424T145323Z
DTSTART:20220814T160000Z
DTEND:20220814T215000Z
LOCATION:
SUMMARY:20 år med Elvis
DESCRIPTION:20 år med Elvis. Kent Wennman\,  sång och berättande\,  Arvi
 d Nerdal\,  piano. Biljettpris 200 kronor\,  boka biljett på info@salsta-s
 lott.se\nhttps://astraken.se/events/20-ar-med-elvis/
URL:https://astraken.se/events/20-ar-med-elvis/
END:VEVENT
END:VCALENDAR