BEGIN:VCALENDAR
VERSION:2.0
PRODID:-//eventon.com NONSGML v1.0//EN
CALSCALE:GREGORIAN
METHOD:PUBLISH
BEGIN:VEVENT
UID:69eb8629b3bd6
DTSTAMP:20260424T150305Z
DTSTART:20220624
DTEND:20220625
LOCATION:
SUMMARY:Midsommarfirande Vattholma
DESCRIPTION:MIDSOMMARAFTON 13.00 Festplats och aktiviteter Ã¶ppnar 14.00 Mi
 dsommarstÃ¥ngen klÃ¤ds och reses\,  Elsie Johansson gÃ¤star firandet 14.10 
 Ã…rets Trekanting utses 14.30 Ringlekar med Tensta Spelmanslag Lenabergs FÃ
 ¶retagspark bjuder alla barn pÃ¥ glass 15.00 Uppvisning av Tensta Folkdansl
 ag 15.30 Gammeldans med Tensta Spelmanslag 16.30 Festplatsen stÃ¤nger 19.30
  Festplatsen Ã¶ppnar 20.00 Sofia Karlsson[..]\nhttps://astraken.se/events/m
 idsommarfirande-vattholma/
URL:https://astraken.se/events/midsommarfirande-vattholma/
END:VEVENT
END:VCALENDAR