BEGIN:VCALENDAR
VERSION:2.0
PRODID:-//eventon.com NONSGML v1.0//EN
CALSCALE:GREGORIAN
METHOD:PUBLISH
BEGIN:VEVENT
UID:69eb9ce715a26
DTSTAMP:20260424T164007Z
DTSTART:20220514T160000Z
DTEND:20220514T215900Z
LOCATION:
SUMMARY:Elviskväll i bygdegården
DESCRIPTION:Elviskväll i bygdegården med Kent Wennman Fullspäckad kväll
  med drag på scenen! Vi välkomnar Kent Wennman till Vendels Bygdegård. 8
  januari 2022 skulle Elvis Presley fyllt 87 år. Det vill vi på Vendels By
 gdegård uppmärksamma med en härlig Elviskväll. Och vad faller sig mer n
 aturligt än att bjuda in Uppsalas[..]\nhttps://astraken.se/events/elviskva
 ll-i-bygdegarden/
URL:https://astraken.se/events/elviskvall-i-bygdegarden/
END:VEVENT
END:VCALENDAR