BEGIN:VCALENDAR
VERSION:2.0
PRODID:-//eventon.com NONSGML v1.0//EN
CALSCALE:GREGORIAN
METHOD:PUBLISH
BEGIN:VEVENT
UID:69eb842608155
DTSTAMP:20260424T145430Z
DTSTART:20220312T170000Z
DTEND:20220312T225000Z
LOCATION:
SUMMARY:Hemskheter & Spök
DESCRIPTION:Välkommen till en vandring i herrgården och en exklusiv berä
 ttarafton om övernaturliga märkliga händelser och annat som inte går at
 t förklara. Genom århundraden har många levt och verkat på Österbybruk
 s herrgård och i nutid människor som vittnat om möten som inte kan förk
 laras. Trots kyrkans och vetenskapens förnekelse så lever[..]\nhttps://as
 traken.se/events/hemskheter-spok/
URL:https://astraken.se/events/hemskheter-spok/
END:VEVENT
END:VCALENDAR