BEGIN:VCALENDAR
VERSION:2.0
PRODID:-//eventon.com NONSGML v1.0//EN
CALSCALE:GREGORIAN
METHOD:PUBLISH
BEGIN:VEVENT
UID:69eb9e2a97b5a
DTSTAMP:20260424T164530Z
DTSTART:20220327T150000Z
DTEND:20220327T215000Z
LOCATION:
SUMMARY:Konsertkarusellen Kizelo Mleko\,  Balkan Kletzmer.
DESCRIPTION:Konsertkarusellen Kizelo Mleko\,  Balkan Kletzmer. Ta med dans
 lusten och förbered er på pulserande beats\,  udda taktarter och riviga m
 elodier! Kizelo Mleko är ett sprakande gäng unga musiker från Stockholm 
 som spelar glödande balkan- och klezmermusik. Med rötterna i traditionen 
 tar de ut svängarna med nya arrangemang där de hämtar influenser från[.
 .]\nhttps://astraken.se/events/konsertkarusellen-kizelo-mleko-balkan-kletzm
 er/
URL:https://astraken.se/events/konsertkarusellen-kizelo-mleko-balkan-kletzmer/
END:VEVENT
END:VCALENDAR