BEGIN:VCALENDAR
VERSION:2.0
PRODID:-//eventon.com NONSGML v1.0//EN
CALSCALE:GREGORIAN
METHOD:PUBLISH
BEGIN:VEVENT
UID:69eb9e754145f
DTSTAMP:20260424T164645Z
DTSTART:20220511T090000Z
DTEND:20220511T110000Z
LOCATION:
SUMMARY:Tillbaka till framtiden
DESCRIPTION:Tillbaka till framtiden En upptäcktsresa i vår närmiljö Anm
 älan senast 4/5 tel. 018-366210\,  300 kr Träffpunkt dagtid Tensta försa
 mling Kyrkans Hus i Skyttorp varannan onsdag kl. 11.00 En möjlighet till g
 emenskap med gamla och nya vänner… Vi tar del av ett timslångt program 
 och delar därefter en lättare måltid\,  50[..]\nhttps://astraken.se/even
 ts/tillbaka-till-framtiden/
URL:https://astraken.se/events/tillbaka-till-framtiden/
END:VEVENT
END:VCALENDAR