BEGIN:VCALENDAR
VERSION:2.0
PRODID:-//eventon.com NONSGML v1.0//EN
CALSCALE:GREGORIAN
METHOD:PUBLISH
BEGIN:VEVENT
UID:69eb9ccd51286
DTSTAMP:20260424T163941Z
DTSTART:20220427T090000Z
DTEND:20220427T110000Z
LOCATION:
SUMMARY:VÃ¥rlunch i Tensta bygdegÃ¥rd
DESCRIPTION:VÃ¥rlunch i Tensta bygdegÃ¥rd 80 kr\,  anmÃ¤lan 018-366210 sena
 st 21/4 TrÃ¤ffpunkt dagtid Tensta fÃ¶rsamling Kyrkans Hus i Skyttorp varann
 an onsdag kl. 11.00 En mÃ¶jlighet till gemenskap med gamla och nya vÃ¤nnerâ
 €¦ Vi tar del av ett timslÃ¥ngt program och delar dÃ¤refter en lÃ¤ttare mÃ¥
 ltid\,  80 kr. OBS! AnmÃ¤lan senast mÃ¥ndagen[..]\nhttps://astraken.se/even
 ts/varlunch-i-tensta-bygdegard/
URL:https://astraken.se/events/varlunch-i-tensta-bygdegard/
END:VEVENT
END:VCALENDAR