BEGIN:VCALENDAR
VERSION:2.0
PRODID:-//eventon.com NONSGML v1.0//EN
CALSCALE:GREGORIAN
METHOD:PUBLISH
BEGIN:VEVENT
UID:69eb9dad79674
DTSTAMP:20260424T164325Z
DTSTART:20220413T090000Z
DTEND:20220413T110000Z
LOCATION:
SUMMARY:Högt och lågt i Skottland
DESCRIPTION:Högt och lågt i Skottland Torbjörn Ivarsson visar bilder och
  berättar Träffpunkt dagtid Tensta församling Kyrkans Hus i Skyttorp var
 annan onsdag kl. 11.00 En möjlighet till gemenskap med gamla och nya vänn
 er… Vi tar del av ett timslångt program och delar därefter en lättare 
 måltid\,  50 kr. OBS! Anmälan senast[..]\nhttps://astraken.se/events/hogt
 -och-lagt-i-skottland-2/
URL:https://astraken.se/events/hogt-och-lagt-i-skottland-2/
END:VEVENT
END:VCALENDAR