BEGIN:VCALENDAR
VERSION:2.0
PRODID:-//eventon.com NONSGML v1.0//EN
CALSCALE:GREGORIAN
METHOD:PUBLISH
BEGIN:VEVENT
UID:69eb840a52243
DTSTAMP:20260424T145402Z
DTSTART:20220316T100000Z
DTEND:20220316T120000Z
LOCATION:
SUMMARY:Svenska sÃ¥nger och visor
DESCRIPTION:Svenska sÃ¥nger och visor Viktor Tunevi\,  sÃ¥ng och gitarr TrÃ
 ¤ffpunkt dagtid Tensta fÃ¶rsamling Kyrkans Hus i Skyttorp varannan onsdag k
 l. 11.00 En mÃ¶jlighet till gemenskap med gamla och nya vÃ¤nnerâ€¦ Vi tar d
 el av ett timslÃ¥ngt program och delar dÃ¤refter en lÃ¤ttare mÃ¥ltid\,  50 
 kr. OBS! AnmÃ¤lan senast mÃ¥ndagen fÃ¶re\, [..]\nhttps://astraken.se/events
 /svenska-sanger-och-visor/
URL:https://astraken.se/events/svenska-sanger-och-visor/
END:VEVENT
END:VCALENDAR