BEGIN:VCALENDAR
VERSION:2.0
PRODID:-//eventon.com NONSGML v1.0//EN
CALSCALE:GREGORIAN
METHOD:PUBLISH
BEGIN:VEVENT
UID:69eb8922b94e1
DTSTAMP:20260424T151546Z
DTSTART:20220302T100000Z
DTEND:20220302T120000Z
LOCATION:
SUMMARY:Producera och reparera i lantbruket
DESCRIPTION:Producera och reparera i lantbruket Kjell och Ylva Sjelin OBS! 
 Denna träff är i Tensta sockenstuga Träffpunkt dagtid Tensta församling
  Kyrkans Hus i Skyttorp varannan onsdag kl. 11.00 En möjlighet till gemens
 kap med gamla och nya vänner… Vi tar del av ett timslångt program och d
 elar därefter en lättare måltid\, [..]\nhttps://astraken.se/events/produ
 cera-och-reparera-i-lantbruket/
URL:https://astraken.se/events/producera-och-reparera-i-lantbruket/
END:VEVENT
END:VCALENDAR