BEGIN:VCALENDAR
VERSION:2.0
PRODID:-//eventon.com NONSGML v1.0//EN
CALSCALE:GREGORIAN
METHOD:PUBLISH
BEGIN:VEVENT
UID:69ebb62f6843c
DTSTAMP:20260424T182759Z
DTSTART:20220405T090000Z
DTEND:20220405T110000Z
LOCATION:
SUMMARY:Präst på OS
DESCRIPTION:Präst på OS Björn Nilsson berättar om hur det var att vara 
 volontär präst på OS i London 2012. OBS! Anmäl om du kommer till Jenny 
 på expeditionen tel. 018-36 62 10 vattholma.pastorat@svenskakyrkan.se sena
 st 12.00 fredag veckan före\nhttps://astraken.se/events/prast-pa-os/
URL:https://astraken.se/events/prast-pa-os/
END:VEVENT
END:VCALENDAR