BEGIN:VCALENDAR
VERSION:2.0
PRODID:-//eventon.com NONSGML v1.0//EN
CALSCALE:GREGORIAN
METHOD:PUBLISH
BEGIN:VEVENT
UID:69eb9e76e7b20
DTSTAMP:20260424T164646Z
DTSTART:20220501T140000Z
DTEND:20220501T154800Z
LOCATION:Salsta Slott Lena Salsta 63\,  Vattholma
SUMMARY:Konsert - I skuggan av tystnaden
DESCRIPTION:Elisabeth Leyser\,  sång\,  Hanna Bendz\,  cello\,  och Niclas
  Malmberg\,  piano.\nhttps://astraken.se/events/konsert-i-skuggan-av-tystna
 den/
URL:https://astraken.se/events/konsert-i-skuggan-av-tystnaden/
END:VEVENT
END:VCALENDAR