BEGIN:VCALENDAR
VERSION:2.0
PRODID:-//eventon.com NONSGML v1.0//EN
CALSCALE:GREGORIAN
METHOD:PUBLISH
BEGIN:VEVENT
UID:69eb84803beb8
DTSTAMP:20260424T145600Z
DTSTART:20220308T150000Z
DTEND:20220308T225000Z
LOCATION:
SUMMARY:Konsert Malena Ernman & Ecstatic Ensemble
DESCRIPTION:Malena Ernman &amp; Ecstatic Ensemble För mer information: htt
 ps://www.osterbybruksherrgard.se/\nhttps://astraken.se/events/konsert-malen
 a-ernman-ecstatic-ensemble/
URL:https://astraken.se/events/konsert-malena-ernman-ecstatic-ensemble/
END:VEVENT
END:VCALENDAR