BEGIN:VCALENDAR
VERSION:2.0
PRODID:-//eventon.com NONSGML v1.0//EN
CALSCALE:GREGORIAN
METHOD:PUBLISH
BEGIN:VEVENT
UID:69eb9e8beb003
DTSTAMP:20260424T164707Z
DTSTART:20220305T160000Z
DTEND:20220305T225000Z
LOCATION:
SUMMARY:Konsert Mats Bergström & Svante Henryson cello
DESCRIPTION:Konsert Mats Bergström &amp; Svante Henryson cello För mer in
 fo: https://www.osterbybruksherrgard.se/\nhttps://astraken.se/events/konser
 t-mats-bergstrom-svante-henryson-cello/
URL:https://astraken.se/events/konsert-mats-bergstrom-svante-henryson-cello/
END:VEVENT
END:VCALENDAR