BEGIN:VCALENDAR
VERSION:2.0
PRODID:-//eventon.com NONSGML v1.0//EN
CALSCALE:GREGORIAN
METHOD:PUBLISH
BEGIN:VEVENT
UID:69eb86e813f6f
DTSTAMP:20260424T150616Z
DTSTART:20220416T090000Z
DTEND:20220416T140000Z
LOCATION:
SUMMARY:Utställningar
DESCRIPTION:Konst på väg 11-16 Utställningar av Sari Palmroth\,  Olo
 f Bendz\,  Karin Wijk samt utställningen The Art of Zhen Shan Ren. Öp
 pet slott\,  entré 80kr. Ingen förbokning behövs. Kl. 14 i Kungssalen l
 ser Hanna Bendz ur sin novellsamling ”Sommarvind”\,  till toner av cel
 lo och piano. Följ med på en annorlunda resa i tid och rum\,  genom sekle
 r och generationer[..]\nhttps://astraken.se/events/utstallningar-2/
URL:https://astraken.se/events/utstallningar-2/
END:VEVENT
END:VCALENDAR