BEGIN:VCALENDAR
VERSION:2.0
PRODID:-//eventon.com NONSGML v1.0//EN
CALSCALE:GREGORIAN
METHOD:PUBLISH
BEGIN:VEVENT
UID:69eb8710f40fc
DTSTAMP:20260424T150656Z
DTSTART:20220415T090000Z
DTEND:20220415T140000Z
LOCATION:
SUMMARY:Utställningar
DESCRIPTION:Konst på väg 11-16 Utställningar av Sari Palmroth\,  Olof
  Bendz\,  Karin Wijk samt utställningen The Art of Zhen Shan Ren. Öpp
 et slott\,  entré 80kr. Ingen förbokning behövs. Upptäck konsten på S
 alsta – för barn 6-12 år. Kl. 11\,  12 och 13. Föranmälan till info@
 salsta-slott.se\,  100kr/person\,  i priset ingår Salsta slotts målarbok 
 och kritor.\nhttps://astraken.se/events/utstallningar/
URL:https://astraken.se/events/utstallningar/
END:VEVENT
END:VCALENDAR