BEGIN:VCALENDAR
VERSION:2.0
PRODID:-//eventon.com NONSGML v1.0//EN
CALSCALE:GREGORIAN
METHOD:PUBLISH
BEGIN:VEVENT
UID:69eb896809c5f
DTSTAMP:20260424T151656Z
DTSTART:20220408T100000Z
DTEND:20220410T140000Z
LOCATION:
SUMMARY:Utställning - The Art of Zhen Shan Ren
DESCRIPTION:Utställningen The Art of Zhen Shan Ren. Öppet slott\,  entr
 é 80kr. Ingen förbokning behövs. Klockan 12 invigs själva utställninge
 n.\nhttps://astraken.se/events/utstallning-the-art-of-zhen-shan-ren/
URL:https://astraken.se/events/utstallning-the-art-of-zhen-shan-ren/
END:VEVENT
END:VCALENDAR