BEGIN:VCALENDAR
VERSION:2.0
PRODID:-//eventon.com NONSGML v1.0//EN
CALSCALE:GREGORIAN
METHOD:PUBLISH
BEGIN:VEVENT
UID:69eb848c4bf62
DTSTAMP:20260424T145612Z
DTSTART:20220311T090000Z
DTEND:20220311T100000Z
LOCATION:
SUMMARY:Småsånger med AKO
DESCRIPTION:Anna-Karin &#8221;Ako&#8221; Nytell Oldeberg sjunger för de a
 llra minsta barnen. Syskon är välkomna. Begränsat antal platser. Föranm
 älan till bjorklingebiblioteket@uppsala.se eller 018 727 79 49 Fredag 1
 1 mars 10.00\nhttps://astraken.se/events/smasanger-med-ako/
URL:https://astraken.se/events/smasanger-med-ako/
END:VEVENT
END:VCALENDAR