BEGIN:VCALENDAR
VERSION:2.0
PRODID:-//eventon.com NONSGML v1.0//EN
CALSCALE:GREGORIAN
METHOD:PUBLISH
BEGIN:VEVENT
UID:69eb9dc9d6a82
DTSTAMP:20260424T164353Z
DTSTART:20220421T163000Z
DTEND:20220421T173000Z
LOCATION:
SUMMARY:Sommarens fröjder
DESCRIPTION:Trädgårdsexpert Maj-Lis Pettersson ger tips inför odlingss
 äsongen. Entré: medlemmar i Storvreta Ärentuna kultur-och hembygdsfören
 ing gratis\,  övriga 50:- Föranmälan till Storvretabiblioteket 018 727 
 67 33 eller storvretabiblioteket@uppsala.se\nhttps://astraken.se/events/s
 ommarens-frojder/
URL:https://astraken.se/events/sommarens-frojder/
END:VEVENT
END:VCALENDAR