BEGIN:VCALENDAR
VERSION:2.0
PRODID:-//eventon.com NONSGML v1.0//EN
CALSCALE:GREGORIAN
METHOD:PUBLISH
BEGIN:VEVENT
UID:69eb8372baae7
DTSTAMP:20260424T145130Z
DTSTART:20220328T163000Z
DTEND:20220328T173000Z
LOCATION:
SUMMARY:Blues\,  ballader och Boye
DESCRIPTION:Daniel Lemma bjuder tillsammans med gitarristen Mats Eriksson
  på en konsert med Lemmas egna låtar blandat med inspiration från Karin
  Boye. Samarrangemang med Musik i Uppland och Uppsala kommun. Entré: 100:-
 för alla Föranmälan till Storvretabiblioteket 018 727 67 33 eller sto
 rvretabiblioteket@uppsala.se\nhttps://astraken.se/events/blues-ballader-och
 -boye/
URL:https://astraken.se/events/blues-ballader-och-boye/
END:VEVENT
END:VCALENDAR