BEGIN:VCALENDAR
VERSION:2.0
PRODID:-//eventon.com NONSGML v1.0//EN
CALSCALE:GREGORIAN
METHOD:PUBLISH
BEGIN:VEVENT
UID:69eb8670aba37
DTSTAMP:20260424T150416Z
DTSTART:20220212T110000Z
DTEND:20220212T225000Z
LOCATION:
SUMMARY:Spelstuga
DESCRIPTION:Ta med ditt instrument och din spelglädje. Alla välkomna! Fö
 ranmälan till Storvretabiblioteket 018 727 67 33 eller storvretabibliot
 eket@uppsala.se 12 feb och 26 mars kl 12\nhttps://astraken.se/events/spelst
 uga/
URL:https://astraken.se/events/spelstuga/
END:VEVENT
END:VCALENDAR