BEGIN:VCALENDAR
VERSION:2.0
PRODID:-//eventon.com NONSGML v1.0//EN
CALSCALE:GREGORIAN
METHOD:PUBLISH
BEGIN:VEVENT
UID:69ed1e279f727
DTSTAMP:20260425T200351Z
DTSTART:20220208T173000Z
DTEND:20220208T225000Z
LOCATION:
SUMMARY:Vikingatidens vagga: i vendeltidens värld
DESCRIPTION:Vetenskapsjournalist och arkeolog Kristina Ekero Eriksson pra
 tar om sin senaste bok Vikingatidens vagga: i vendeltidens värld. Entré: 
 medlemmar i Storvreta Ärentuna kultur- och hembygdsförening gratis\,  öv
 riga 50:- Föranmälan till Storvretabiblioteket 018 727 67 33 eller sto
 rvretabiblioteket@uppsala.se Tisdag 8 februari kl 18.30\nhttps://astraken.s
 e/events/vikingatidens-vagga-i-vendeltidens-varld/
URL:https://astraken.se/events/vikingatidens-vagga-i-vendeltidens-varld/
END:VEVENT
END:VCALENDAR