BEGIN:VCALENDAR
VERSION:2.0
PRODID:-//eventon.com NONSGML v1.0//EN
CALSCALE:GREGORIAN
METHOD:PUBLISH
BEGIN:VEVENT
UID:69eb83c071dd4
DTSTAMP:20260424T145248Z
DTSTART:20220205T110000Z
DTEND:20220205T190000Z
LOCATION:
SUMMARY:HÃ¤mtpizza
DESCRIPTION:HÃ¤mtpizza lÃ¶rdag den 5 februari! Ã„ngslyckans italienska Â Â 
 Â Â Â Â Â Â Â Â Â Â Â Â Â Â Â Â Â Â Â Â Â Â Â Â Â Â Â Â Â Â Â Â Â Â Â Â Â Â
  Â Â Â Â Â Â Â Â Â 155 kr TomatsÃ¥s\,  lÃ¶k\,  ost. Efter grÃ¤ddning: salla
 dsost\, Â chorizzo (eller oliver)\,  och ruccola Ã„ngslyckans vita ost &amp
 ; pÃ¤ronpizzaÂ Â Â Â Â Â Â Â Â Â Â Â Â Â Â Â Â Â Â Â Â Â Â Â Â Â Â Â Â Â Â 
 155 kr GrÃ¶nmÃ¶gelost\,  ost\,  grÃ¶nkÃ¥l\,  crÃ¨me fraiche\,  pÃ¤ron\,  va
 lnÃ¶tter och ringlad honung efterÃ¥tÂ . Hawaii eller CapricciosaÂ Â Â Â Â Â
  Â Â Â Â Â Â Â Â Â Â Â Â Â Â Â Â Â Â Â Â Â Â Â Â Â Â Â Â Â Â 145 kr TomatsÃ
 ¥s\,  skinka\,  ostÂ ananasÂ ellerÂ fÃ¤rska champinjonerÂ Â Â Â Â Â Â Â Â Â
  Â Â Â Â Â  Â Â Â Â Â Â Â Â Â Â Â Â Â Â Â Â  Â Â Â Â Â Â Â Â Â Â Â Â Â Â Â 
 Â  Â Â Â Â Â Â Â Â Â Â Â Â  Â Â Â  Ljust surdegsbrÃ¶d[..]\nhttps://astraken
 .se/events/hamtpizza/
URL:https://astraken.se/events/hamtpizza/
END:VEVENT
END:VCALENDAR