BEGIN:VCALENDAR
VERSION:2.0
PRODID:-//eventon.com NONSGML v1.0//EN
CALSCALE:GREGORIAN
METHOD:PUBLISH
BEGIN:VEVENT
UID:69eb9cf6ee31b
DTSTAMP:20260424T164022Z
DTSTART:20220226T110000Z
DTEND:20220226T225000Z
LOCATION:
SUMMARY:Lunch med mordgåta
DESCRIPTION:Lunch med mordgåta kl.12 Boka plats på info@salsta-slott.se\
 nhttps://astraken.se/events/lunch-med-mordgata-2/
URL:https://astraken.se/events/lunch-med-mordgata-2/
END:VEVENT
END:VCALENDAR