BEGIN:VCALENDAR
VERSION:2.0
PRODID:-//eventon.com NONSGML v1.0//EN
CALSCALE:GREGORIAN
METHOD:PUBLISH
BEGIN:VEVENT
UID:69eb9dab727e7
DTSTAMP:20260424T164323Z
DTSTART:20220219T110000Z
DTEND:20220219T225000Z
LOCATION:
SUMMARY:Sportlovskul\,  särskild barnvisning av slottet
DESCRIPTION:Lördag 19 februari Slottskaféet öppet 11-16 Sportlovskul\,  
 särskild barnvisning av slottet kl.12\,  60kr/person. Ordinarie vintervisn
 ing kl.14. Boka plats på info@salsta-slott.se Söndag 20 februari Slottska
 féet öppet 11-16 Sportlovskul\,  särskild barnvisning av slottet kl.12 o
 ch 13. 60 kr/person. Boka plats på info@salsta-slott.se\nhttps://astraken.
 se/events/sportlovskul-sarskild-barnvisning-av-slottet/
URL:https://astraken.se/events/sportlovskul-sarskild-barnvisning-av-slottet/
END:VEVENT
END:VCALENDAR