BEGIN:VCALENDAR
VERSION:2.0
PRODID:-//eventon.com NONSGML v1.0//EN
CALSCALE:GREGORIAN
METHOD:PUBLISH
BEGIN:VEVENT
UID:69eb8431e24bb
DTSTAMP:20260424T145441Z
DTSTART:20220129T110000Z
DTEND:20220129T225000Z
LOCATION:
SUMMARY:Vintervisning av slottet
DESCRIPTION:Vintervisning av slottet\,  guidad rundvandring med ytterkläde
 r på\,  kl.12 och 13. Boka plats på info@salsta-slott.se\nhttps://astrake
 n.se/events/vintervisning-av-slottet/
URL:https://astraken.se/events/vintervisning-av-slottet/
END:VEVENT
END:VCALENDAR