BEGIN:VCALENDAR
VERSION:2.0
PRODID:-//eventon.com NONSGML v1.0//EN
CALSCALE:GREGORIAN
METHOD:PUBLISH
BEGIN:VEVENT
UID:69eb86f1b5939
DTSTAMP:20260424T150625Z
DTSTART:20220415T080000Z
DTEND:20220522T140000Z
LOCATION:
SUMMARY:Utställning
DESCRIPTION:15 April &#8211; 22 Maj Marie-Louise Sundqvist\,  keramik Fidel
 i Sundqvist\,  papper Emilia Sundqvist\,  textil\nhttps://astraken.se/event
 s/utstallning-2/
URL:https://astraken.se/events/utstallning-2/
END:VEVENT
END:VCALENDAR