BEGIN:VCALENDAR
VERSION:2.0
PRODID:-//eventon.com NONSGML v1.0//EN
CALSCALE:GREGORIAN
METHOD:PUBLISH
BEGIN:VEVENT
UID:69eb9d2c3bb95
DTSTAMP:20260424T164116Z
DTSTART:20220123T110000Z
DTEND:20220123T225000Z
LOCATION:
SUMMARY:Lunch med mordgåta
DESCRIPTION:Lunch med mordgåta kl.12 Boka plats på info@salsta-slott.se 
 Varför dog Salstas slottsherre Per Brahe 1772\,  blott 25 år gammal? Var 
 och hur dog Ulrica Catharina Koskull\,  som nu sägs gå igen på slottet? 
 Boka lunch/middag med mordgåta för att reda ut svaret på någon av fråg
 orna. För ett mindre sällskap\,  upp[..]\nhttps://astraken.se/events/lunc
 h-med-mordgata/
URL:https://astraken.se/events/lunch-med-mordgata/
END:VEVENT
END:VCALENDAR