BEGIN:VCALENDAR
VERSION:2.0
PRODID:-//eventon.com NONSGML v1.0//EN
CALSCALE:GREGORIAN
METHOD:PUBLISH
BEGIN:VEVENT
UID:69eb86ae4e949
DTSTAMP:20260424T150518Z
DTSTART:20211219T100000Z
DTEND:20211219T225000Z
LOCATION:
SUMMARY:Vi sjunger in julen
DESCRIPTION:Vi sjunger in julen 11.00\,  Ärentunakören\nhttps://astraken.
 se/events/vi-sjunger-in-julen/
URL:https://astraken.se/events/vi-sjunger-in-julen/
END:VEVENT
END:VCALENDAR