BEGIN:VCALENDAR
VERSION:2.0
PRODID:-//eventon.com NONSGML v1.0//EN
CALSCALE:GREGORIAN
METHOD:PUBLISH
BEGIN:VEVENT
UID:69eb847c46d66
DTSTAMP:20260424T145556Z
DTSTART:20211215T180000Z
DTEND:20211215T225000Z
LOCATION:
SUMMARY:Julkonsert
DESCRIPTION:Julstämning med Tensta Lena kyrkokör 19.00\nhttps://astraken.
 se/events/julkonsert/
URL:https://astraken.se/events/julkonsert/
END:VEVENT
END:VCALENDAR