BEGIN:VCALENDAR
VERSION:2.0
PRODID:-//eventon.com NONSGML v1.0//EN
CALSCALE:GREGORIAN
METHOD:PUBLISH
BEGIN:VEVENT
UID:69eb9dd9201c0
DTSTAMP:20260424T164409Z
DTSTART:20211213T180000Z
DTEND:20211213T225000Z
LOCATION:
SUMMARY:Luciatåg
DESCRIPTION:Luciatåg med Tensta folkdanslag 19.00 samlingsmusik m. spelman
 slaget 18.40 | björn nilsson\nhttps://astraken.se/events/luciatag/
URL:https://astraken.se/events/luciatag/
END:VEVENT
END:VCALENDAR