BEGIN:VCALENDAR
VERSION:2.0
PRODID:-//eventon.com NONSGML v1.0//EN
CALSCALE:GREGORIAN
METHOD:PUBLISH
BEGIN:VEVENT
UID:69eb848e311a9
DTSTAMP:20260424T145614Z
DTSTART:20211212T150000Z
DTEND:20211212T225000Z
LOCATION:
SUMMARY:Luciagudstjänst
DESCRIPTION:Luciagudstjänst 16.00 | barnkören medverkar björn nilsson | 
 martin svensson | glöggmingel på kyrkbacken\nhttps://astraken.se/events/l
 uciagudstjanst/
URL:https://astraken.se/events/luciagudstjanst/
END:VEVENT
END:VCALENDAR