BEGIN:VCALENDAR
VERSION:2.0
PRODID:-//eventon.com NONSGML v1.0//EN
CALSCALE:GREGORIAN
METHOD:PUBLISH
BEGIN:VEVENT
UID:69eb864367cb9
DTSTAMP:20260424T150331Z
DTSTART:20211128T100000Z
DTEND:20211128T225000Z
LOCATION:
SUMMARY:Adventsgudstjänst
DESCRIPTION:Sångsvamparna | karolina adlarson | ärentunakören mats wilhe
 lm\,  klarinett | margareta ranudd| glöggmingel\nhttps://astraken.se/event
 s/adventsgudstjanst-3/
URL:https://astraken.se/events/adventsgudstjanst-3/
END:VEVENT
END:VCALENDAR