BEGIN:VCALENDAR
VERSION:2.0
PRODID:-//eventon.com NONSGML v1.0//EN
CALSCALE:GREGORIAN
METHOD:PUBLISH
BEGIN:VEVENT
UID:69eb840d98d4e
DTSTAMP:20260424T145405Z
DTSTART:20211128T083000Z
DTEND:20211128T225000Z
LOCATION:
SUMMARY:Adventsgudstjänst
DESCRIPTION:Tensta lena kyrkokör olle nordberg\,  trumpet | kristina lockn
 er | martin svensson tensta folkdanslag bjuder in till adventskaffe i bygde
 gården\nhttps://astraken.se/events/adventsgudstjanst/
URL:https://astraken.se/events/adventsgudstjanst/
END:VEVENT
END:VCALENDAR