BEGIN:VCALENDAR
VERSION:2.0
PRODID:-//eventon.com NONSGML v1.0//EN
CALSCALE:GREGORIAN
METHOD:PUBLISH
BEGIN:VEVENT
UID:69eb9d281b097
DTSTAMP:20260424T164112Z
DTSTART:20211204T100000Z
DTEND:20211204T140000Z
LOCATION:
SUMMARY:Julmarknad
DESCRIPTION:Lördag 4 december kl 11-15 finns möjlighet till härlig juls
 tämning med doft av glögg och pepparkakor vid Storvreta församlinggård.
  Då anordnas julmarknad med lokala hantverkare och företag. I tälten 
 på området framför församlingsgården dukar våra lokala leverantörer
  och företag upp sina bord och erbjuder allt från lammkorv till mönster
 stickade vantar\,  tovade hattar och vackra dörrkransar\,  julgranar\, [..
 ]\nhttps://astraken.se/events/julmarknad-2/
URL:https://astraken.se/events/julmarknad-2/
END:VEVENT
END:VCALENDAR