BEGIN:VCALENDAR
VERSION:2.0
PRODID:-//eventon.com NONSGML v1.0//EN
CALSCALE:GREGORIAN
METHOD:PUBLISH
BEGIN:VEVENT
UID:69eb83d080fed
DTSTAMP:20260424T145304Z
DTSTART:20211127T090000Z
DTEND:20211127T130000Z
LOCATION:
SUMMARY:Julgranssafari
DESCRIPTION:JULGRANSSAFARI Ã„ntligen dags fÃ¶r advent och vi har lyssnat pÃ
 ¥ er som vill ha gran\,  tall eller pyntgrÃ¶nt sÃ¥ nu Ã¤r det snart dags fÃ
 ¶r julgranssafari. Vi finns pÃ¥ plats i vid sjÃ¶n i skogen lÃ¶rdag 27/11 sa
 mt lÃ¶rdag 18/12 klockan 10-14. Vi ordnar med eldar sÃ¥ att ni kan[..]\nhtt
 ps://astraken.se/events/julgranssafari/
URL:https://astraken.se/events/julgranssafari/
END:VEVENT
END:VCALENDAR