BEGIN:VCALENDAR
VERSION:2.0
PRODID:-//eventon.com NONSGML v1.0//EN
CALSCALE:GREGORIAN
METHOD:PUBLISH
BEGIN:VEVENT
UID:69eb9dcbbe7b5
DTSTAMP:20260424T164355Z
DTSTART:20211212T140000Z
DTEND:20211212T225000Z
LOCATION:Salsta Slott Lena Salsta 63\,  Vattholma
SUMMARY:Uppsala kammarsolister
DESCRIPTION:SÃ¶ndag 12 december kl. 15 Uppsala kammarsolister Uppsala Kamma
 rsolister Ã¤r en strÃ¥kensemble i vÃ¤rldsklass som bestÃ¥r av nÃ¥gra av Sve
 riges frÃ¤msta musiker; Nils-Erik Sparf\,  violin\,  Klara Hellgren\,  viol
 in\,  Brusk Zanganeh\,  violin\,  Ylva-Li Zilliacus\,  viola och Per NystrÃ
 ¶m\,  cello. Efter konserten serveras en jultallrik. Pris Ã¤r 475 kronor fÃ
 ¶r konsert och[..]\nhttps://astraken.se/events/uppsala-kammarsolister-2/
URL:https://astraken.se/events/uppsala-kammarsolister-2/
END:VEVENT
END:VCALENDAR