BEGIN:VCALENDAR
VERSION:2.0
PRODID:-//eventon.com NONSGML v1.0//EN
CALSCALE:GREGORIAN
METHOD:PUBLISH
BEGIN:VEVENT
UID:69eb866765dd1
DTSTAMP:20260424T150407Z
DTSTART:20211205T150000Z
DTEND:20211205T225000Z
LOCATION:Salsta Slott Lena Salsta 63\,  Vattholma
SUMMARY:Musik på Salsta
DESCRIPTION:Söndag 5 december kl. 16 Det är advent! Hanna Bendz\,  cello 
 och sång\,  Elisabeth Leyser\,  sång och Niclas Malmberg\,  piano. Elisab
 eth Leyser\,  mezzosopran\,  är född 1994 i Gällivare och växte upp i L
 änna utanför Uppsala. Hon tog sin kandidatexamen vid Operahögskolan i St
 ockholm 2019. Tidigare engagemang inkluderar hennes debut med[..]\nhttps://
 astraken.se/events/musik-pa-salsta/
URL:https://astraken.se/events/musik-pa-salsta/
END:VEVENT
END:VCALENDAR