BEGIN:VCALENDAR
VERSION:2.0
PRODID:-//eventon.com NONSGML v1.0//EN
CALSCALE:GREGORIAN
METHOD:PUBLISH
BEGIN:VEVENT
UID:69eb88dd865ba
DTSTAMP:20260424T151437Z
DTSTART:20211114T130000Z
DTEND:20211114T225000Z
LOCATION:
SUMMARY:Gårdsvisning och afternoon tea
DESCRIPTION:Söndag 14 november kl 14.00 Guidad tur av Nortuna med Carl Ale
 xander Lindman\,  bland antikviteter och anekdoter &#8211; och något gård
 sspöke. Avrundas med ett klassiskt afternoon tea med gårdens eget te och 
 hembakat\,  serveras i von Rosensteinska salen. Bokning: nortunagard@gmail.
 com Nortuna ligger 250 meter väster om Tensta kyrka\,  18 km[..]\nhttps://
 astraken.se/events/gardsvisning-och-afternoon-tea/
URL:https://astraken.se/events/gardsvisning-och-afternoon-tea/
END:VEVENT
END:VCALENDAR