BEGIN:VCALENDAR
VERSION:2.0
PRODID:-//eventon.com NONSGML v1.0//EN
CALSCALE:GREGORIAN
METHOD:PUBLISH
BEGIN:VEVENT
UID:69eb996fea0ea
DTSTAMP:20260424T162519Z
DTSTART:20211127T090000Z
DTEND:20211219T150000Z
LOCATION:
SUMMARY:Utställning
DESCRIPTION:Gruppen FEMtakt\,  medlemmar i UKK\,  samlingsutställning på 
 Sadelmakarlängan Österbybruk\,  27 nov – 19 dec 2021 www.sadelmakarlang
 an.se Kirsten Holm Bodil Gellermark Eva Hedberg Marianne Gustafsson Birgitt
 a Nordström Wiklund\nhttps://astraken.se/events/utstallning/
URL:https://astraken.se/events/utstallning/
END:VEVENT
END:VCALENDAR