BEGIN:VCALENDAR
VERSION:2.0
PRODID:-//eventon.com NONSGML v1.0//EN
CALSCALE:GREGORIAN
METHOD:PUBLISH
BEGIN:VEVENT
UID:69eb9da587b92
DTSTAMP:20260424T164317Z
DTSTART:20211205T090000Z
DTEND:20211205T225000Z
LOCATION:Salsta Slott Lena Salsta 63\,  Vattholma
SUMMARY:Julmarknad
DESCRIPTION:Julmarknad vid Salsta i regi av Wattholma Kultur &amp; Hembygds
 förening.\nhttps://astraken.se/events/julmarknad/
URL:https://astraken.se/events/julmarknad/
END:VEVENT
END:VCALENDAR