BEGIN:VCALENDAR
VERSION:2.0
PRODID:-//eventon.com NONSGML v1.0//EN
CALSCALE:GREGORIAN
METHOD:PUBLISH
BEGIN:VEVENT
UID:69ebabf323bef
DTSTAMP:20260424T174419Z
DTSTART:20211031T170000Z
DTEND:20211031T225000Z
LOCATION:Salsta Slott Lena Salsta 63\,  Vattholma
SUMMARY:SpÃ¶kvandring
DESCRIPTION:NÃ„R MÃ–RKRET SÃ„NKER SIG Ã–VER SALSTA SÃ¶ndag 31 oktober Ã¤r d
 en dag pÃ¥ Ã¥ret dÃ¥ slottets spÃ¶ken beger sig ut. Hela kvÃ¤llen kan de fÃ
 ¶rvÃ¤ntas irra runt mellan slottssmedjan och grindarna till borggÃ¥rden. Fr
 Ã¥n kl. 18 och hela kvÃ¤llen ges dessutom mÃ¶jlighet att boka plats pÃ¥ spÃ
 ¶kvandring\,  dÃ¥ du fÃ¥r[..]\nhttps://astraken.se/events/spokvandring-2/
URL:https://astraken.se/events/spokvandring-2/
END:VEVENT
END:VCALENDAR