BEGIN:VCALENDAR
VERSION:2.0
PRODID:-//eventon.com NONSGML v1.0//EN
CALSCALE:GREGORIAN
METHOD:PUBLISH
BEGIN:VEVENT
UID:69eb9dcfbff78
DTSTAMP:20260424T164359Z
DTSTART:20211002T100000Z
DTEND:20211002T215000Z
LOCATION:Salsta Slott Lena Salsta 63\,  Vattholma
SUMMARY:Guidade turer
DESCRIPTION:Lördag 2 oktober kl. 12 och 13 Söndag 3 oktober kl. 12 och 13
  Hösten knackar på slottsporten och är på god väg in över tröskeln. 
 Årets guidade visningar är snart i mål så passa på att följa med i he
 lgen. Snart övergår vi till spökvandringar… 120kr. Barn upp till[..]\n
 https://astraken.se/events/guidade-turer/
URL:https://astraken.se/events/guidade-turer/
END:VEVENT
END:VCALENDAR