BEGIN:VCALENDAR
VERSION:2.0
PRODID:-//eventon.com NONSGML v1.0//EN
CALSCALE:GREGORIAN
METHOD:PUBLISH
BEGIN:VEVENT
UID:69eb861ff237c
DTSTAMP:20260424T150255Z
DTSTART:20211204T130000Z
DTEND:20211204T225000Z
LOCATION:
SUMMARY:Jul på Nortuna
DESCRIPTION:Jul på Nortuna Lördag 4 december kl 14.00 á 295 kr pp. Max 2
 0 pers. Jul på Nortuna: guidad vandring i traditionellt juldekorerade Nort
 una. Upplev en stämningsfull uppländsk jul\,  med doft och smak. Glögg\,
   adventskaffe/te med hembakt i von Rosensteinska salen. Anmälning sker vi
 a nortunagard@gmail.com Först-till-kvarn gäller.\nhttps://astraken.se/eve
 nts/jul-pa-nortuna/
URL:https://astraken.se/events/jul-pa-nortuna/
END:VEVENT
END:VCALENDAR