BEGIN:VCALENDAR
VERSION:2.0
PRODID:-//eventon.com NONSGML v1.0//EN
CALSCALE:GREGORIAN
METHOD:PUBLISH
BEGIN:VEVENT
UID:69eb88f62abfa
DTSTAMP:20260424T151502Z
DTSTART:20211121T130000Z
DTEND:20211121T225000Z
LOCATION:
SUMMARY:Afternoon Tea med visning av mangården
DESCRIPTION:Afternoon Tea med visning av mangården. Söndag 21 november kl
  14.00 á 295 kr pp. Max 20 pers. Guidad tur av Nortuna med Carl Alexander 
 Lindman\,  bland antikviteter och anekdoter &#8211; och något gårdsspöke
 . Avrundas med ett klassiskt afternoon tea med gårdens eget te och hembaka
 t\,  serveras i von Rosensteinska[..]\nhttps://astraken.se/events/afternoon
 -tea-med-visning-av-mangarden/
URL:https://astraken.se/events/afternoon-tea-med-visning-av-mangarden/
END:VEVENT
END:VCALENDAR