BEGIN:VCALENDAR
VERSION:2.0
PRODID:-//eventon.com NONSGML v1.0//EN
CALSCALE:GREGORIAN
METHOD:PUBLISH
BEGIN:VEVENT
UID:69eb88ab5175e
DTSTAMP:20260424T151347Z
DTSTART:20211113T130000Z
DTEND:20211113T225000Z
LOCATION:
SUMMARY:Vinprovning - Magnus Gardshol
DESCRIPTION:Vinprovning Magnus Gardshol Lördag 13 november kl 14.00 á 295
  kr pp. Max 20 pers. Vinlandet Sydafrika: Vinprovning och berättelser frå
 n linné-lärjungen Sparrmans upplevelser i Kap\,  med sommelier Magnus Gar
 dshol och museiintendent Carl Alexander Lindman. Anmälning sker via nortun
 agard@gmail.com Först-till-kvarn gäller.\nhttps://astraken.se/events/vinp
 rovning-magnus-gardshol/
URL:https://astraken.se/events/vinprovning-magnus-gardshol/
END:VEVENT
END:VCALENDAR