BEGIN:VCALENDAR
VERSION:2.0
PRODID:-//eventon.com NONSGML v1.0//EN
CALSCALE:GREGORIAN
METHOD:PUBLISH
BEGIN:VEVENT
UID:69eb83cb375fb
DTSTAMP:20260424T145259Z
DTSTART:20211016T130000Z
DTEND:20211016T215000Z
LOCATION:
SUMMARY:Konsert - Anyssa Neumann
DESCRIPTION:Lördag 16 oktober kl 15.00 á 295 kr pp. Max 20 pers. Hyllade 
 pianisten Anyssa Neumann framför en solokonsert med Bachs Goldberg-variati
 oner\,  BWV 988\,  i Nortunas Musiksalong. Verket består av 30 variationer
  samt en aria\,  och gavs ut 1741. Dryck med tilltugg i mingel efter konser
 ten. Anmälning sker via nortunagard@gmail.com[..]\nhttps://astraken.se/eve
 nts/konsert-anyssa-neumann/
URL:https://astraken.se/events/konsert-anyssa-neumann/
END:VEVENT
END:VCALENDAR